BEGIN:VCALENDAR
VERSION:2.0
PRODID:-//Terre d&#039;envol - ECPv6.15.20//NONSGML v1.0//EN
CALSCALE:GREGORIAN
METHOD:PUBLISH
X-WR-CALNAME:Terre d&#039;envol
X-ORIGINAL-URL:https://terre-d-envol.fr
X-WR-CALDESC:Évènements pour Terre d&#039;envol
REFRESH-INTERVAL;VALUE=DURATION:PT1H
X-Robots-Tag:noindex
X-PUBLISHED-TTL:PT1H
BEGIN:VTIMEZONE
TZID:Europe/Paris
BEGIN:DAYLIGHT
TZOFFSETFROM:+0100
TZOFFSETTO:+0200
TZNAME:CEST
DTSTART:20250330T010000
END:DAYLIGHT
BEGIN:STANDARD
TZOFFSETFROM:+0200
TZOFFSETTO:+0100
TZNAME:CET
DTSTART:20251026T010000
END:STANDARD
BEGIN:DAYLIGHT
TZOFFSETFROM:+0100
TZOFFSETTO:+0200
TZNAME:CEST
DTSTART:20260329T010000
END:DAYLIGHT
BEGIN:STANDARD
TZOFFSETFROM:+0200
TZOFFSETTO:+0100
TZNAME:CET
DTSTART:20261025T010000
END:STANDARD
BEGIN:DAYLIGHT
TZOFFSETFROM:+0100
TZOFFSETTO:+0200
TZNAME:CEST
DTSTART:20270328T010000
END:DAYLIGHT
BEGIN:STANDARD
TZOFFSETFROM:+0200
TZOFFSETTO:+0100
TZNAME:CET
DTSTART:20271031T010000
END:STANDARD
END:VTIMEZONE
BEGIN:VEVENT
DTSTART;TZID=Europe/Paris:20260509T140000
DTEND;TZID=Europe/Paris:20260510T180000
DTSTAMP:20260422T171520
CREATED:20251122T110954Z
LAST-MODIFIED:20251122T110954Z
UID:3182-1778335200-1778436000@terre-d-envol.fr
SUMMARY:we atelier d'arthérapie
DESCRIPTION:
URL:https://terre-d-envol.fr/event/we-atelier-dartherapie-4/
LOCATION:La maison Rose\, 3 impasse Druette\, Lamballe\, 22400\, France
END:VEVENT
BEGIN:VEVENT
DTSTART;TZID=Europe/Paris:20260530T090000
DTEND;TZID=Europe/Paris:20260531T100000
DTSTAMP:20260422T171520
CREATED:20250521T125712Z
LAST-MODIFIED:20250521T125712Z
UID:2720-1780131600-1780221600@terre-d-envol.fr
SUMMARY:Stage inipi
DESCRIPTION:Hutte de sudation selon le rituel Lakota
URL:https://terre-d-envol.fr/event/stage-inipi-4/
LOCATION:Gîte des 4 vents La Motte Plévenon\, 4 allée de La Ville Tourin\, Plévenon\, 22240\, France
END:VEVENT
BEGIN:VEVENT
DTSTART;TZID=Europe/Paris:20260606T140000
DTEND;TZID=Europe/Paris:20260607T180000
DTSTAMP:20260422T171520
CREATED:20251122T111055Z
LAST-MODIFIED:20251122T111055Z
UID:3184-1780754400-1780855200@terre-d-envol.fr
SUMMARY:we atelier d'arthérapie
DESCRIPTION:
URL:https://terre-d-envol.fr/event/we-atelier-dartherapie-5/
LOCATION:La maison Rose\, 3 impasse Druette\, Lamballe\, 22400\, France
END:VEVENT
BEGIN:VEVENT
DTSTART;TZID=Europe/Paris:20260627T100000
DTEND;TZID=Europe/Paris:20260628T180000
DTSTAMP:20260422T171520
CREATED:20251122T111230Z
LAST-MODIFIED:20251122T111230Z
UID:3186-1782554400-1782669600@terre-d-envol.fr
SUMMARY:we atelier d'arthérapie
DESCRIPTION:
URL:https://terre-d-envol.fr/event/we-atelier-dartherapie-6/
LOCATION:La maison Rose\, 3 impasse Druette\, Lamballe\, 22400\, France
ORGANIZER;CN="Association Terre d'envol'":MAILTO:terredenvol@posteo.net
END:VEVENT
END:VCALENDAR